BEGIN:VCALENDAR
VERSION:2.0
PRODID:-//World of Country Life - ECPv5.14.0.4//NONSGML v1.0//EN
CALSCALE:GREGORIAN
METHOD:PUBLISH
X-WR-CALNAME:World of Country Life
X-ORIGINAL-URL:https://www.worldofcountrylife.co.uk
X-WR-CALDESC:Events for World of Country Life
BEGIN:VTIMEZONE
TZID:Europe/London
BEGIN:DAYLIGHT
TZOFFSETFROM:+0000
TZOFFSETTO:+0100
TZNAME:BST
DTSTART:20190331T010000
END:DAYLIGHT
BEGIN:STANDARD
TZOFFSETFROM:+0100
TZOFFSETTO:+0000
TZNAME:GMT
DTSTART:20191027T010000
END:STANDARD
END:VTIMEZONE
BEGIN:VEVENT
DTSTART;VALUE=DATE:20190729
DTEND;VALUE=DATE:20190903
DTSTAMP:20260419T172018
CREATED:20190702T110638Z
LAST-MODIFIED:20190702T143314Z
UID:1646-1564358400-1567468799@www.worldofcountrylife.co.uk
SUMMARY:Minion Mondays - Summer Holiday Fun!
DESCRIPTION:Monday Minion Madness\nBook Tickets Now\nEvery Monday through the school summer holidays come along for some Minion Mayhem at World of Country Life! \nWe’ll be having a Minion Madness show at 2pm each day (followed immediately by Ferret or Lamb & Duck Racing) so make sure you’re in time and don’t miss it! \nPlus all the usual daily activities like goat walking\, bottle feeding\, Hawkridge Birds of Prey flying display\, animal handling and the fantastic Deer Train! \n \nMinion Mondays will be on the following dates… \n29th July\n5th August\n12th August\n19th August\n26th August
URL:https://www.worldofcountrylife.co.uk/event/minion-mondays-summer-holiday-fun/
LOCATION:World of Country Life\, World of Country Life\, West Down Lane\, Sandy Bay\, Exmouth\, Devon\, EX8 5BY\, United Kingdom
CATEGORIES:picks
ATTACH;FMTTYPE=image/jpeg:https://www.worldofcountrylife.co.uk/wp-content/uploads/2019/07/Minion-Mondays.jpg
GEO:50.619028;-3.365658
X-APPLE-STRUCTURED-LOCATION;VALUE=URI;X-ADDRESS=World of Country Life World of Country Life West Down Lane Sandy Bay Exmouth Devon EX8 5BY United Kingdom;X-APPLE-RADIUS=500;X-TITLE=World of Country Life\, West Down Lane\, Sandy Bay:geo:-3.365658,50.619028
END:VEVENT
END:VCALENDAR