BEGIN:VCALENDAR
VERSION:2.0
PRODID:-//World of Country Life - ECPv5.14.0.4//NONSGML v1.0//EN
CALSCALE:GREGORIAN
METHOD:PUBLISH
X-WR-CALNAME:World of Country Life
X-ORIGINAL-URL:https://www.worldofcountrylife.co.uk
X-WR-CALDESC:Events for World of Country Life
BEGIN:VTIMEZONE
TZID:Europe/London
BEGIN:DAYLIGHT
TZOFFSETFROM:+0000
TZOFFSETTO:+0100
TZNAME:BST
DTSTART:20260329T010000
END:DAYLIGHT
BEGIN:STANDARD
TZOFFSETFROM:+0100
TZOFFSETTO:+0000
TZNAME:GMT
DTSTART:20261025T010000
END:STANDARD
END:VTIMEZONE
BEGIN:VEVENT
DTSTART;TZID=Europe/London:20260504T100000
DTEND;TZID=Europe/London:20260504T170000
DTSTAMP:20260422T210712
CREATED:20260422T145031Z
LAST-MODIFIED:20260422T145031Z
UID:4117-1777888800-1777914000@www.worldofcountrylife.co.uk
SUMMARY:May the 4th be with you!
DESCRIPTION:Join us on the park for Star Wars day – the 4th May! \nWe’ll have Southern Troopers on the park\, walking around and showing off their amazing outfits – and maybe Angus will get involved too! \nThey will be here all day\, so come along for a photo opportunity!
URL:https://www.worldofcountrylife.co.uk/event/may-the-4th-be-with-you/
LOCATION:World of Country Life\, World of Country Life\, West Down Lane\, Sandy Bay\, Exmouth\, Devon\, EX8 5BY\, United Kingdom
ATTACH;FMTTYPE=image/jpeg:https://www.worldofcountrylife.co.uk/wp-content/uploads/2026/04/20250505_133457128_iOS-scaled-e1776869405861.jpg
GEO:50.619028;-3.365658
X-APPLE-STRUCTURED-LOCATION;VALUE=URI;X-ADDRESS=World of Country Life World of Country Life West Down Lane Sandy Bay Exmouth Devon EX8 5BY United Kingdom;X-APPLE-RADIUS=500;X-TITLE=World of Country Life\, West Down Lane\, Sandy Bay:geo:-3.365658,50.619028
END:VEVENT
END:VCALENDAR